BEGIN:VCALENDAR
VERSION:2.0
METHOD:PUBLISH
X-WR-CALNAME;VALUE=TEXT:Upcoming Events
PRODID:-//Drupal iCal API//EN
BEGIN:VEVENT
SUMMARY:Christmas Cantata
UID:250
DTSTAMP:20261220T131239Z
DTSTART:20261220
END:VEVENT
BEGIN:VEVENT
SUMMARY:Youth Christmas Program
UID:249
DTSTAMP:20261213T131221Z
DTSTART:20261213
END:VEVENT
BEGIN:VEVENT
SUMMARY:Christmas Dinner
UID:248
DTSTAMP:20261204T131204Z
DTSTART:20261204
END:VEVENT
BEGIN:VEVENT
SUMMARY:Tuesday Midweek Service
UID:247
DTSTAMP:20261124T131146Z
DTSTART:20261124
END:VEVENT
BEGIN:VEVENT
SUMMARY:Men’s Prayer Meeting
UID:246
DTSTAMP:20261107T131127Z
DTSTART:20261107
END:VEVENT
BEGIN:VEVENT
SUMMARY:Children’s Harvest Party
UID:245
DTSTAMP:20261106T131105Z
DTSTART:20261106
END:VEVENT
BEGIN:VEVENT
SUMMARY:Daylight Saving Time Ends
UID:244
DTSTAMP:20261101T131047Z
DTSTART:20261101
END:VEVENT
BEGIN:VEVENT
SUMMARY:Harvest Sunday
UID:243
DTSTAMP:20261025T131029Z
DTSTART:20261025
END:VEVENT
BEGIN:VEVENT
SUMMARY:Missions Conference
UID:238
DTSTAMP:20261007T130945Z
DTSTART:20261007
END:VEVENT
BEGIN:VEVENT
SUMMARY:Missions Conference
UID:239
DTSTAMP:20261008T130945Z
DTSTART:20261008
END:VEVENT
BEGIN:VEVENT
SUMMARY:Missions Conference
UID:240
DTSTAMP:20261009T130945Z
DTSTART:20261009
END:VEVENT
BEGIN:VEVENT
SUMMARY:Missions Conference
UID:241
DTSTAMP:20261010T130945Z
DTSTART:20261010
END:VEVENT
BEGIN:VEVENT
SUMMARY:Missions Conference
UID:242
DTSTAMP:20261011T130945Z
DTSTART:20261011
END:VEVENT
BEGIN:VEVENT
SUMMARY:Monthly Churchwide Outreach
UID:237
DTSTAMP:20260912T130857Z
DTSTART:20260912
END:VEVENT
BEGIN:VEVENT
SUMMARY:Missionary Zach Hamilton
UID:236
DTSTAMP:20260909T130834Z
DTSTART:20260909
END:VEVENT
BEGIN:VEVENT
SUMMARY:Pastor Johnny Pope
UID:235
DTSTAMP:20260816T130809Z
DTSTART:20260816
END:VEVENT
BEGIN:VEVENT
SUMMARY:Monthly Churchwide Outreach
UID:234
DTSTAMP:20260808T130705Z
DTSTART:20260808
END:VEVENT
BEGIN:VEVENT
SUMMARY:Men’s Prayer Meeting
UID:233
DTSTAMP:20260801T130641Z
DTSTART:20260801
END:VEVENT
BEGIN:VEVENT
SUMMARY:Vacation Bible School
UID:229
DTSTAMP:20260727T130603Z
DTSTART:20260727
END:VEVENT
BEGIN:VEVENT
SUMMARY:Vacation Bible School
UID:230
DTSTAMP:20260728T130603Z
DTSTART:20260728
END:VEVENT
BEGIN:VEVENT
SUMMARY:Vacation Bible School
UID:231
DTSTAMP:20260729T130603Z
DTSTART:20260729
END:VEVENT
BEGIN:VEVENT
SUMMARY:Vacation Bible School
UID:232
DTSTAMP:20260730T130603Z
DTSTART:20260730
END:VEVENT
BEGIN:VEVENT
SUMMARY:Evangelist Bill Smith
UID:228
DTSTAMP:20260726T130541Z
DTSTART:20260726
END:VEVENT
BEGIN:VEVENT
SUMMARY:VBS Canvassing/Decorate for VBS
UID:227
DTSTAMP:20260725T130522Z
DTSTART:20260725
END:VEVENT
BEGIN:VEVENT
SUMMARY:Monthly Churchwide Outreach
UID:226
DTSTAMP:20260711T130501Z
DTSTART:20260711
END:VEVENT
BEGIN:VEVENT
SUMMARY:Missionary Timothy Bundy
UID:225
DTSTAMP:20260701T130441Z
DTSTART:20260701
END:VEVENT
BEGIN:VEVENT
SUMMARY:Father’s Day
UID:224
DTSTAMP:20260521T130421Z
DTSTART:20260521
END:VEVENT
BEGIN:VEVENT
SUMMARY:Monthly Churchwide Outreach
UID:223
DTSTAMP:20260606T130402Z
DTSTART:20260606
END:VEVENT
BEGIN:VEVENT
SUMMARY:Dr. David Gibbs
UID:222
DTSTAMP:20260531T130338Z
DTSTART:20260531
END:VEVENT
BEGIN:VEVENT
SUMMARY:Memorial Day Picnic
UID:221
DTSTAMP:20260525T130318Z
DTSTART:20260525
END:VEVENT
BEGIN:VEVENT
SUMMARY:Ladies’ Spring Luncheon
UID:220
DTSTAMP:20260523T130300Z
DTSTART:20260523
END:VEVENT
BEGIN:VEVENT
SUMMARY:Golden State Baptist College tour group
UID:219
DTSTAMP:20260522T130243Z
DTSTART:20260522
END:VEVENT
BEGIN:VEVENT
SUMMARY:Missionary Matthew Risinger
UID:218
DTSTAMP:20260520T130216Z
DTSTART:20260520
END:VEVENT
BEGIN:VEVENT
SUMMARY:Mother’s Day
UID:217
DTSTAMP:20260510T130155Z
DTSTART:20260510
END:VEVENT
BEGIN:VEVENT
SUMMARY:Monthly Churchwide Outreach
UID:216
DTSTAMP:20260509T125917Z
DTSTART:20260509
END:VEVENT
BEGIN:VEVENT
SUMMARY:Spring Revival
UID:212
DTSTAMP:20260426T125824Z
DTSTART:20260426
END:VEVENT
BEGIN:VEVENT
SUMMARY:Spring Revival
UID:213
DTSTAMP:20260427T125824Z
DTSTART:20260427
END:VEVENT
BEGIN:VEVENT
SUMMARY:Spring Revival
UID:214
DTSTAMP:20260428T125824Z
DTSTART:20260428
END:VEVENT
BEGIN:VEVENT
SUMMARY:Spring Revival
UID:215
DTSTAMP:20260429T125824Z
DTSTART:20260429
END:VEVENT
END:VCALENDAR
